BEGIN:VCALENDAR
PRODID:-//Dr. Thomas Wagner\, TUM WWW & Online Services//myTUM Advanced Calendaring 0.1//DE
VERSION:2.0
METHOD:GET
BEGIN:VTIMEZONE
TZID:Europe/Berlin
BEGIN:STANDARD
DTSTART:20071028T010000
TZOFFSETTO:+0100
TZOFFSETFROM:+0000
TZNAME:CET
END:STANDARD
BEGIN:DAYLIGHT
TZOFFSETTO:+0200
TZOFFSETFROM:+0100
TZNAME:CEST
DTSTART:20080330T020000
END:DAYLIGHT
END:VTIMEZONE
BEGIN:VEVENT
SEQUENCE:1
TRANSP:OPAQUE
UID:termine_event.2006-01-11.6258431689_portal.mytum.de
DTSTART;TZID=Europe/Berlin:20060209T090000
ORGANIZER;CN="Ulrike Elanabi":mailto:ulrike.elanabi@tum.de
DTSTAMP:20260424T082626
LAST-MODIFIED:20060114T112425
SUMMARY:Schülertag in Weihenstephan
DESCRIPTION:weitere Informationen unter www.tum.de/schuelertage
CONTACT:Studiensekretariat Weihenstephan (Study Management Office) Tel.:08161/71-5841
LOCATION:Campus Weihenstephan
CLASS:PUBLIC
URL;VALUE=URL:https://portal.mytum.de/termine/event.2006-01-11.6258431689
ATTACH;VALUE=URI:http://www.tum.de/schuelertage
CREATED:20060111T110025
DTEND;TZID=Europe/Berlin:20060209T170000
END:VEVENT
END:VCALENDAR
