BEGIN:VCALENDAR
PRODID:-//Dr. Thomas Wagner\, TUM WWW & Online Services//myTUM Advanced Calendaring 0.1//DE
VERSION:2.0
METHOD:GET
BEGIN:VTIMEZONE
TZID:Europe/Berlin
BEGIN:STANDARD
DTSTART:20071028T010000
TZOFFSETTO:+0100
TZOFFSETFROM:+0000
TZNAME:CET
END:STANDARD
BEGIN:DAYLIGHT
TZOFFSETTO:+0200
TZOFFSETFROM:+0100
TZNAME:CEST
DTSTART:20080330T020000
END:DAYLIGHT
END:VTIMEZONE
BEGIN:VEVENT
SEQUENCE:1
TRANSP:OPAQUE
UID:termine_event.2006-01-11.5125360119_portal.mytum.de
DTSTART;TZID=Europe/Berlin:20060209T090000
ORGANIZER;CN="schuelertage@zv.tum.de":mailto:schuelertage@zv.tum.de
DTSTAMP:20260422T051015
LAST-MODIFIED:20060111T162155
SUMMARY:Schülertag 2006
DESCRIPTION:Uni-Live an der Technischen Universität München Ihr Studium. Ihre Zukunft. Am 9. Februar 2006 veranstaltet die Technische Universität München einen Schülertag an den Standorten Innenstadt, Campus Garching und am Wissenschaftszentrum Weihenstephan. 
CONTACT:schuelertage@zv.tum.de
LOCATION:Stammgelände München, Campus Garching, Wissenschaftszentrum Weihestephan
CLASS:PUBLIC
URL;VALUE=URL:https://portal.mytum.de/termine/event.2006-01-11.5125360119
ATTACH;VALUE=URI:http://www.mz.ze.tum.de/schuelertage/index2.html
CREATED:20060111T161512
DTEND;TZID=Europe/Berlin:20060209T170000
END:VEVENT
END:VCALENDAR
