BEGIN:VCALENDAR
PRODID:-//Dr. Thomas Wagner\, TUM WWW & Online Services//myTUM Advanced Calendaring 0.1//DE
VERSION:2.0
METHOD:GET
BEGIN:VTIMEZONE
TZID:Europe/Berlin
BEGIN:STANDARD
DTSTART:20071028T010000
TZOFFSETTO:+0100
TZOFFSETFROM:+0000
TZNAME:CET
END:STANDARD
BEGIN:DAYLIGHT
TZOFFSETTO:+0200
TZOFFSETFROM:+0100
TZNAME:CEST
DTSTART:20080330T020000
END:DAYLIGHT
END:VTIMEZONE
BEGIN:VEVENT
SEQUENCE:1
TRANSP:OPAQUE
UID:termine_Event.2026-02-03.1344751124_portal.mytum.de
DTSTART;TZID=Europe/Berlin:20260716T190000
ORGANIZER;CN="Sonja Böhm":mailto:sonja.boehm@tum.de
DTSTAMP:20260424T034744
LAST-MODIFIED:20260203T125846
CATEGORIES:VORTRAG
SUMMARY:TUM@Freising: Wald und Waldbewirtschaftung im (unfreiwilligen) Wandel
DESCRIPTION:Diesem Thema widmet sich Prof. Axel Göttlein, Professur für Waldernährung und Wasserhaushalt an der Technischen Universität München (TUM), in einem Vortrag aus der Reihe TUM@Freising am Donnerstag, 16. Juli 2026, um 19 Uhr im Lindenkeller Freising.
CONTACT:Sonja Böhm
LOCATION:Lindenkeller Freising, Oberhaus, Veitsmüllerweg 2, 85354 Freising
CLASS:PUBLIC
URL;VALUE=URL:https://portal.mytum.de/termine/Event.2026-02-03.1344751124
CREATED:20260203T125744
DTEND;TZID=Europe/Berlin:20260716T203000
END:VEVENT
END:VCALENDAR
