BEGIN:VCALENDAR
PRODID:-//Dr. Thomas Wagner\, TUM WWW & Online Services//myTUM Advanced Calendaring 0.1//DE
VERSION:2.0
METHOD:GET
BEGIN:VTIMEZONE
TZID:Europe/Berlin
BEGIN:STANDARD
DTSTART:20071028T010000
TZOFFSETTO:+0100
TZOFFSETFROM:+0000
TZNAME:CET
END:STANDARD
BEGIN:DAYLIGHT
TZOFFSETTO:+0200
TZOFFSETFROM:+0100
TZNAME:CEST
DTSTART:20080330T020000
END:DAYLIGHT
END:VTIMEZONE
BEGIN:VEVENT
SEQUENCE:1
TRANSP:OPAQUE
UID:termine_Event.2025-11-03.6224544795_portal.mytum.de
DTSTART;TZID=Europe/Berlin:20251115T140000
ORGANIZER;CN="Eva Willkomm":mailto:willkomm@tum.de
DTSTAMP:20260423T055920
LAST-MODIFIED:20251103T160607
CATEGORIES:SOCIAL EVENT
SUMMARY:Silbernes, Goldenes und Diamantenes Jubiläum
DESCRIPTION:Festliche Abschlussjubiläumfeier der Alumni mit President´s Alumni Dinner, die vor 25, 50 oder 60 Jahren ihr Diplom oder ihre Promotion abgeschlossen haben.
CONTACT:Eva Willkomm
LOCATION:TUM Campus Garching
CLASS:PUBLIC
URL;VALUE=URL:https://portal.mytum.de/termine/Event.2025-11-03.6224544795
CREATED:20251103T155556
DTEND;TZID=Europe/Berlin:20251115T210000
END:VEVENT
END:VCALENDAR
