BEGIN:VCALENDAR
PRODID:-//Dr. Thomas Wagner\, TUM WWW & Online Services//myTUM Advanced Calendaring 0.1//DE
VERSION:2.0
METHOD:GET
BEGIN:VTIMEZONE
TZID:Europe/Berlin
BEGIN:STANDARD
DTSTART:20071028T010000
TZOFFSETTO:+0100
TZOFFSETFROM:+0000
TZNAME:CET
END:STANDARD
BEGIN:DAYLIGHT
TZOFFSETTO:+0200
TZOFFSETFROM:+0100
TZNAME:CEST
DTSTART:20080330T020000
END:DAYLIGHT
END:VTIMEZONE
BEGIN:VEVENT
SEQUENCE:1
TRANSP:OPAQUE
UID:termine_Event.2025-07-24.8714475975_portal.mytum.de
DTSTART;TZID=Europe/Berlin:20260323T080000
ORGANIZER;CN="masterberatung@tum.de":mailto:masterberatung@tum.de
DTSTAMP:20260421T141950
LAST-MODIFIED:20250724T093737
CATEGORIES:VORTRAG
SUMMARY:Master´s Days March 23th - 27th
DESCRIPTION:Are you interested in a Master’s program at TUM? At the virtual TUM Master’s Days you have the opportunity to get to know TUM, its Master's programs and its advising services. The virtual Master’s Days 2026 are scheduled to take place from March, 23 until March, 27. Please visit this site for further information closer to the event.
CONTACT:masterberatung@tum.de
LOCATION:virtuell
CLASS:PUBLIC
URL;VALUE=URL:https://portal.mytum.de/termine/Event.2025-07-24.8714475975
CREATED:20250724T092456
DTEND;TZID=Europe/Berlin:20260327T200000
END:VEVENT
END:VCALENDAR
