BEGIN:VCALENDAR
PRODID:-//Dr. Thomas Wagner\, TUM WWW & Online Services//myTUM Advanced Calendaring 0.1//DE
VERSION:2.0
METHOD:GET
BEGIN:VTIMEZONE
TZID:Europe/Berlin
BEGIN:STANDARD
DTSTART:20071028T010000
TZOFFSETTO:+0100
TZOFFSETFROM:+0000
TZNAME:CET
END:STANDARD
BEGIN:DAYLIGHT
TZOFFSETTO:+0200
TZOFFSETFROM:+0100
TZNAME:CEST
DTSTART:20080330T020000
END:DAYLIGHT
END:VTIMEZONE
BEGIN:VEVENT
SEQUENCE:1
TRANSP:OPAQUE
UID:termine_Event.2025-05-27.1742500683_portal.mytum.de
DTSTART;TZID=Europe/Berlin:20251125T181500
ORGANIZER;CN="Prof. Dr. Bernhard Wolf, Dipl.-Biol. Christian Scholze, info@stw-med-chip.de":mailto:info@stw-med-chip.de
DTSTAMP:20260425T012749
LAST-MODIFIED:20250527T190052
CATEGORIES:VORTRAG
SUMMARY:Die Geschichte des Cybathlon - Ein Wettkampf mit Robotern für Menschen mit Bewegungseinschränkungen
DESCRIPTION:Präsenz-Veranstaltung mit Livestream - Link zur Anmeldung siehe unten!
CONTACT:Prof. Dr. Bernhard Wolf, Dipl.-Biol. Christian Scholze, info@stw-med-chip.de
LOCATION:ASB München/Oberbayern, Adi-Maislinger-Str. 6 - 8, 81373 München
CLASS:PUBLIC
URL;VALUE=URL:https://portal.mytum.de/termine/Event.2025-05-27.1742500683
CREATED:20250527T190012
DTEND;TZID=Europe/Berlin:20251125T201500
END:VEVENT
END:VCALENDAR
