BEGIN:VCALENDAR
PRODID:-//Dr. Thomas Wagner\, TUM WWW & Online Services//myTUM Advanced Calendaring 0.1//DE
VERSION:2.0
METHOD:GET
BEGIN:VTIMEZONE
TZID:Europe/Berlin
BEGIN:STANDARD
DTSTART:20071028T010000
TZOFFSETTO:+0100
TZOFFSETFROM:+0000
TZNAME:CET
END:STANDARD
BEGIN:DAYLIGHT
TZOFFSETTO:+0200
TZOFFSETFROM:+0100
TZNAME:CEST
DTSTART:20080330T020000
END:DAYLIGHT
END:VTIMEZONE
BEGIN:VEVENT
SEQUENCE:1
TRANSP:OPAQUE
UID:termine_Event.2024-06-17.4407119284_portal.mytum.de
DTSTART;TZID=Europe/Berlin:20240902T130000
ORGANIZER;CN="firststeps@cst.tum.de":mailto:firststeps@cst.tum.de
DTSTAMP:20260425T014242
LAST-MODIFIED:20240617T153128
CATEGORIES:VORTRAG
SUMMARY:TUM First Steps
DESCRIPTION:Sie kommen aus dem Ausland, haben Ihre Zulassung erhalten und bereiten sich auf Ihr Studium an der TUM vor? Bei TUM First Steps erhalten Sie jeweils vor Beginn des Sommersemesters und des Wintersemesters alle wichtigen Informationen für einen optimalen Start ins Studium. https://www.tum.de/studium/im-studium/das-studium-beginnen/first-steps
CONTACT:firststeps@cst.tum.de
LOCATION:online
CLASS:PUBLIC
URL;VALUE=URL:https://portal.mytum.de/termine/Event.2024-06-17.4407119284
CREATED:20240617T152342
DTEND;TZID=Europe/Berlin:20240907T170000
END:VEVENT
END:VCALENDAR
