BEGIN:VCALENDAR
PRODID:-//Dr. Thomas Wagner\, TUM WWW & Online Services//myTUM Advanced Calendaring 0.1//DE
VERSION:2.0
METHOD:GET
BEGIN:VTIMEZONE
TZID:Europe/Berlin
BEGIN:STANDARD
DTSTART:20071028T010000
TZOFFSETTO:+0100
TZOFFSETFROM:+0000
TZNAME:CET
END:STANDARD
BEGIN:DAYLIGHT
TZOFFSETTO:+0200
TZOFFSETFROM:+0100
TZNAME:CEST
DTSTART:20080330T020000
END:DAYLIGHT
END:VTIMEZONE
BEGIN:VEVENT
SEQUENCE:1
TRANSP:OPAQUE
UID:termine_Event.2024-06-02.9276572337_portal.mytum.de
DTSTART;TZID=Europe/Berlin:20240717T060000
ORGANIZER;CN="rivo@fs.tum.de":mailto:rivo@fs.tum.de
DTSTAMP:20260423T071338
LAST-MODIFIED:20240602T222746
CATEGORIES:VORTRAG
SUMMARY:Working with Médecins Sans Frontières (MSF) in Crisis Zones: Can MSF Really Make a Change and an Sustainable Impact?
DESCRIPTION:Countless individuals globally endure ongoing conflict and preventable illnesses, particularly impacting the most vulnerable, such as infants and children. Médecins Sans Frontières (MSF) medicals undertake courageous missions in these regions, striving to save lives and improve healthcare conditions. One of these doctors is Monika Ried. In the lecture, she’ll talk about her experiences in Yemen, Iraq, and Nigeria, where she and her colleagues helped people hurt by war, provided care for Yazidi refugees who suffered under genocide, and fought against diseases like Diphtheria. Let’s hear about how she and the team from MSF are helping in places without stable government, supporting their colleagues in tough situations, saving patients, and trying to find ways to stop poverty and unfairness.
CONTACT:rivo@fs.tum.de
LOCATION:Hybrid: Lecture Hall N1190 and via Zoom
CLASS:PUBLIC
URL;VALUE=URL:https://portal.mytum.de/termine/Event.2024-06-02.9276572337
CREATED:20240602T222555
DTEND;TZID=Europe/Berlin:20240717T070000
END:VEVENT
END:VCALENDAR
