BEGIN:VCALENDAR
PRODID:-//Dr. Thomas Wagner\, TUM WWW & Online Services//myTUM Advanced Calendaring 0.1//DE
VERSION:2.0
METHOD:GET
BEGIN:VTIMEZONE
TZID:Europe/Berlin
BEGIN:STANDARD
DTSTART:20071028T010000
TZOFFSETTO:+0100
TZOFFSETFROM:+0000
TZNAME:CET
END:STANDARD
BEGIN:DAYLIGHT
TZOFFSETTO:+0200
TZOFFSETFROM:+0100
TZNAME:CEST
DTSTART:20080330T020000
END:DAYLIGHT
END:VTIMEZONE
BEGIN:VEVENT
SEQUENCE:1
TRANSP:OPAQUE
UID:termine_Event.2023-12-19.8729208041_portal.mytum.de
DTSTART;TZID=Europe/Berlin:20240203T190000
ORGANIZER;CN="Maximilian Gemsjäger":mailto:maximilian.gemsjaeger@tum.de
DTSTAMP:20260426T031021
LAST-MODIFIED:20231219T174746
CATEGORIES:SOCIAL EVENT
SUMMARY:Jahreskonzert TUM JazzBand
DESCRIPTION:Konzert der studentischen Bigband der TUM zusammen mit der Cantaloupe Bigband
LOCATION:Audimax
CLASS:PUBLIC
URL;VALUE=URL:https://portal.mytum.de/termine/Event.2023-12-19.8729208041
CREATED:20231219T174546
DTEND;TZID=Europe/Berlin:20230203T210000
END:VEVENT
END:VCALENDAR
