BEGIN:VCALENDAR
PRODID:-//Dr. Thomas Wagner\, TUM WWW & Online Services//myTUM Advanced Calendaring 0.1//DE
VERSION:2.0
METHOD:GET
BEGIN:VTIMEZONE
TZID:Europe/Berlin
BEGIN:STANDARD
DTSTART:20071028T010000
TZOFFSETTO:+0100
TZOFFSETFROM:+0000
TZNAME:CET
END:STANDARD
BEGIN:DAYLIGHT
TZOFFSETTO:+0200
TZOFFSETFROM:+0100
TZNAME:CEST
DTSTART:20080330T020000
END:DAYLIGHT
END:VTIMEZONE
BEGIN:VEVENT
SEQUENCE:1
TRANSP:OPAQUE
UID:termine_Event.2023-09-20.2248899305_portal.mytum.de
DTSTART;TZID=Europe/Berlin:20230927T180000
ORGANIZER;CN="Manuel Lerschmacher":mailto:manuel.lerschmacher@tum.de
DTSTAMP:20260424T183900
LAST-MODIFIED:20230920T141249
SUMMARY:Academic Energy Cooperative at TUM - Second Meeting!
DESCRIPTION:Did you ever dream of actively participating in the transformation of our energy system? Exploring various economic approaches and driving forward exciting projects? 🔋 Join us for our second meeting as we continue our journey towards establishing an academic energy cooperative! ♻️ 📅 Date: Wednesday, September 27th ⏰ Time: 6:00 PM 📍 Location: downtown campus, seminar room 3999 (https://nav.tum.de/room/0509.04.999) Energy cooperatives are a proven concept nationwide. They involve citizens coming together to take charge of the transformation of their local energy systems towards renewable sources. These cooperatives, as a blend of association and capital company, are democratically organized, thriving on collective decision-making. TUM provides a unique platform to experiment with the possibilities of an academic energy cooperative. Students, researchers, staff, and professors can bring their knowledge and apply it in practice. As the TUM community, we can expand the concept of the energy cooperative. In addition to the sustainable transformation of our energy systems, this concept also offers the opportunity to test teaching and research concepts in practice and conduct proof-of-concept studies! In our upcoming meeting, we'll start with an overview of our mission and then present the current progress and potential first projects. Afterwards, we will discuss the next steps we want to take as an initiative. Don't miss this opportunity to further develop these exciting ideas and lay the foundation for the formation of our cooperative. Share this event with your friends and let's work together to shape a sustainable future! 🌱
CONTACT:Manuel Lerschmacher
LOCATION:0509.04.999
CLASS:PUBLIC
URL;VALUE=URL:https://portal.mytum.de/termine/Event.2023-09-20.2248899305
CREATED:20230920T140952
DTEND;TZID=Europe/Berlin:20230927T200000
END:VEVENT
END:VCALENDAR
