BEGIN:VCALENDAR
PRODID:-//Dr. Thomas Wagner\, TUM WWW & Online Services//myTUM Advanced Calendaring 0.1//DE
VERSION:2.0
METHOD:GET
BEGIN:VTIMEZONE
TZID:Europe/Berlin
BEGIN:STANDARD
DTSTART:20071028T010000
TZOFFSETTO:+0100
TZOFFSETFROM:+0000
TZNAME:CET
END:STANDARD
BEGIN:DAYLIGHT
TZOFFSETTO:+0200
TZOFFSETFROM:+0100
TZNAME:CEST
DTSTART:20080330T020000
END:DAYLIGHT
END:VTIMEZONE
BEGIN:VEVENT
SEQUENCE:1
TRANSP:OPAQUE
UID:termine_Event.2023-06-27.5294323977_portal.mytum.de
DTSTART;TZID=Europe/Berlin:20231130T190000
ORGANIZER;CN="Sonja Böhm":mailto:sonja.boehm@tum.de
DTSTAMP:20260422T224627
LAST-MODIFIED:20230627T114606
CATEGORIES:VORTRAG
SUMMARY:TUM@Freising: Die Vermessung des Lebens: Wie wir die Funktionen von Proteinen in der Natur bestimmen
DESCRIPTION:Relevante Inhalte, verständliche Sprache und unterhaltsame Präsentation – so bringt TUM@Freising die Wissenschaft in die Stadt. Eine anschließende Diskussion nach jedem Vortrag ist ausdrücklich erwünscht, denn Wissenschaft lebt vom Meinungsaustausch. Weitere Informationen und die Aufzeichnungen früherer Vorträge unter: www.ls.tum.de/ls/presse/tumfreising/ Der Einlass beginnt um 18:30 Uhr und der Eintritt ist frei.
CONTACT:Sonja Böhm
LOCATION:Lindenkeller Freising
CLASS:PUBLIC
URL;VALUE=URL:https://portal.mytum.de/termine/Event.2023-06-27.5294323977
CREATED:20230627T114456
DTEND;TZID=Europe/Berlin:20231130T203000
END:VEVENT
END:VCALENDAR
