BEGIN:VCALENDAR
PRODID:-//Dr. Thomas Wagner\, TUM WWW & Online Services//myTUM Advanced Calendaring 0.1//DE
VERSION:2.0
METHOD:GET
BEGIN:VTIMEZONE
TZID:Europe/Berlin
BEGIN:STANDARD
DTSTART:20071028T010000
TZOFFSETTO:+0100
TZOFFSETFROM:+0000
TZNAME:CET
END:STANDARD
BEGIN:DAYLIGHT
TZOFFSETTO:+0200
TZOFFSETFROM:+0100
TZNAME:CEST
DTSTART:20080330T020000
END:DAYLIGHT
END:VTIMEZONE
BEGIN:VEVENT
SEQUENCE:1
TRANSP:OPAQUE
UID:termine_Event.2023-06-01.6955528241_portal.mytum.de
DTSTART;TZID=Europe/Berlin:20230601T160000
ORGANIZER;CN="Louiza Papatheodorou":mailto:louiza.papatheodorou@tum.de
DTSTAMP:20260423T211302
LAST-MODIFIED:20230601T162528
CATEGORIES:FORTBILDUNG
SUMMARY:Der akute vaskuläre Thoraxschmerz – Die diagnostische Herausforderung in der Präklinik
DESCRIPTION:Fortbildungsveranstaltung - Der akute vaskuläre Thoraxschmerz – Die diagnostische Herausforderung in der Präklinik - Mittwoch, 21 Juni, 16:00–18:00 Uhr, Hörsaal C am Klinikum rechts der Isar
CONTACT:Dr. med. Michael Kallmayer
LOCATION:Hörsaal C, Klinikum rechts der Isar
CLASS:PUBLIC
URL;VALUE=URL:https://portal.mytum.de/termine/Event.2023-06-01.6955528241
CREATED:20230601T162016
DTEND;TZID=Europe/Berlin:20230601T160000
END:VEVENT
END:VCALENDAR
