BEGIN:VCALENDAR
PRODID:-//Dr. Thomas Wagner\, TUM WWW & Online Services//myTUM Advanced Calendaring 0.1//DE
VERSION:2.0
METHOD:GET
BEGIN:VTIMEZONE
TZID:Europe/Berlin
BEGIN:STANDARD
DTSTART:20071028T010000
TZOFFSETTO:+0100
TZOFFSETFROM:+0000
TZNAME:CET
END:STANDARD
BEGIN:DAYLIGHT
TZOFFSETTO:+0200
TZOFFSETFROM:+0100
TZNAME:CEST
DTSTART:20080330T020000
END:DAYLIGHT
END:VTIMEZONE
BEGIN:VEVENT
SEQUENCE:1
TRANSP:OPAQUE
UID:termine_Event.2023-04-06.3635546074_portal.mytum.de
DTSTART;TZID=Europe/Berlin:20230419T161500
ORGANIZER;CN="Carolin Lerch":mailto:carolin.lerch@tum.de
DTSTAMP:20260420T142126
LAST-MODIFIED:20230406T093709
CATEGORIES:VORTRAG
SUMMARY:We are MIBE Speaker Series
DESCRIPTION:We are MIBE Speaker Series
CONTACT:Carolin Lerch
LOCATION:Munich Institute of Biomedical Engineering (MIBE), Boltzmannstraße 11, Garching &amp; Zoom
CLASS:PUBLIC
URL;VALUE=URL:https://portal.mytum.de/termine/Event.2023-04-06.3635546074
CREATED:20230406T092029
DTEND;TZID=Europe/Berlin:20230419T173000
END:VEVENT
END:VCALENDAR
