BEGIN:VCALENDAR
PRODID:-//Dr. Thomas Wagner\, TUM WWW & Online Services//myTUM Advanced Calendaring 0.1//DE
VERSION:2.0
METHOD:GET
BEGIN:VTIMEZONE
TZID:Europe/Berlin
BEGIN:STANDARD
DTSTART:20071028T010000
TZOFFSETTO:+0100
TZOFFSETFROM:+0000
TZNAME:CET
END:STANDARD
BEGIN:DAYLIGHT
TZOFFSETTO:+0200
TZOFFSETFROM:+0100
TZNAME:CEST
DTSTART:20080330T020000
END:DAYLIGHT
END:VTIMEZONE
BEGIN:VEVENT
SEQUENCE:1
TRANSP:OPAQUE
UID:termine_Event.2023-03-28.8596100178_portal.mytum.de
DTSTART;TZID=Europe/Berlin:20231109T093000
ORGANIZER;CN="personalrat@zv.tum.de":mailto:personalrat@zv.tum.de
DTSTAMP:20260421T142147
LAST-MODIFIED:20231026T182651
CATEGORIES:SOCIAL EVENT
SUMMARY:Personalversammlung Hauptdienststelle (München)
CONTACT:personalrat@zv.tum.de
LOCATION:Friedrich von Thirsch Hörsaal (Raum 2300)
CLASS:PUBLIC
URL;VALUE=URL:https://portal.mytum.de/termine/Event.2023-03-28.8596100178
CREATED:20230328T091447
DTEND;TZID=Europe/Berlin:20231109T120000
END:VEVENT
END:VCALENDAR
