BEGIN:VCALENDAR
PRODID:-//Dr. Thomas Wagner\, TUM WWW & Online Services//myTUM Advanced Calendaring 0.1//DE
VERSION:2.0
METHOD:GET
BEGIN:VTIMEZONE
TZID:Europe/Berlin
BEGIN:STANDARD
DTSTART:20071028T010000
TZOFFSETTO:+0100
TZOFFSETFROM:+0000
TZNAME:CET
END:STANDARD
BEGIN:DAYLIGHT
TZOFFSETTO:+0200
TZOFFSETFROM:+0100
TZNAME:CEST
DTSTART:20080330T020000
END:DAYLIGHT
END:VTIMEZONE
BEGIN:VEVENT
SEQUENCE:1
TRANSP:OPAQUE
UID:termine_Event.2023-03-14.6649525222_portal.mytum.de
DTSTART;TZID=Europe/Berlin:20230525T190000
ORGANIZER;CN="Sonja Böhm":mailto:sonja.boehm@tum.de
DTSTAMP:20260423T135907
LAST-MODIFIED:20230314T120254
CATEGORIES:VORTRAG
SUMMARY:TUM@Freising: Vernachlässigte Pflanzenarten als Nahrungsquellen der Zukunft? Wie wir neue Arten für eine klimastabilere Pflanzenproduktion erschließen können
DESCRIPTION:Relevante Inhalte, verständliche Sprache und unterhaltsame Präsentation – so bringt TUM@Freising die Wissenschaft in die Stadt. Eine anschließende Diskussion nach jedem Vortrag ist ausdrücklich erwünscht, denn Wissenschaft lebt vom Meinungsaustausch. Weitere Informationen und die Aufzeichnungen früherer Vorträge unter: www.ls.tum.de/ls/presse/tumfreising/ Der Einlass beginnt um 18:30 Uhr und der Eintritt ist frei. 
CONTACT:Sonja Böhm
LOCATION:Lindenkeller Freising
CLASS:PUBLIC
URL;VALUE=URL:https://portal.mytum.de/termine/Event.2023-03-14.6649525222
CREATED:20230314T115820
DTEND;TZID=Europe/Berlin:20230525T203000
END:VEVENT
END:VCALENDAR
