BEGIN:VCALENDAR
PRODID:-//Dr. Thomas Wagner\, TUM WWW & Online Services//myTUM Advanced Calendaring 0.1//DE
VERSION:2.0
METHOD:GET
BEGIN:VTIMEZONE
TZID:Europe/Berlin
BEGIN:STANDARD
DTSTART:20071028T010000
TZOFFSETTO:+0100
TZOFFSETFROM:+0000
TZNAME:CET
END:STANDARD
BEGIN:DAYLIGHT
TZOFFSETTO:+0200
TZOFFSETFROM:+0100
TZNAME:CEST
DTSTART:20080330T020000
END:DAYLIGHT
END:VTIMEZONE
BEGIN:VEVENT
SEQUENCE:1
TRANSP:OPAQUE
UID:termine_Event.2023-03-08.9144657279_portal.mytum.de
DTSTART;TZID=Europe/Berlin:20230308T134000
ORGANIZER;CN="Peter Finger":mailto:finger@tum.de
DTSTAMP:20260425T144244
LAST-MODIFIED:20230308T135050
CATEGORIES:VORTRAG
SUMMARY:Academy Talk on "New Technologies and the Perspective of Jewish Ethics"
DESCRIPTION:TUM: Junge Akademie hosts the first Academy Talk in 2023 on March 15, this round with Chief Rabbi Pinchas Goldschmidt, President of the Conference of European Rabbis, and Prof. Dr. Astrid Séville, interim professor of political theory and philosophy at TUM, as a guest.
CONTACT:Peter Finger
LOCATION:Immatrikulationshalle TUM Stammgelände
CLASS:PUBLIC
URL;VALUE=URL:https://portal.mytum.de/termine/Event.2023-03-08.9144657279
CREATED:20230308T134721
DTEND;TZID=Europe/Berlin:20230308T134000
END:VEVENT
END:VCALENDAR
