BEGIN:VCALENDAR
PRODID:-//Dr. Thomas Wagner\, TUM WWW & Online Services//myTUM Advanced Calendaring 0.1//DE
VERSION:2.0
METHOD:GET
BEGIN:VTIMEZONE
TZID:Europe/Berlin
BEGIN:STANDARD
DTSTART:20071028T010000
TZOFFSETTO:+0100
TZOFFSETFROM:+0000
TZNAME:CET
END:STANDARD
BEGIN:DAYLIGHT
TZOFFSETTO:+0200
TZOFFSETFROM:+0100
TZNAME:CEST
DTSTART:20080330T020000
END:DAYLIGHT
END:VTIMEZONE
BEGIN:VEVENT
SEQUENCE:1
TRANSP:OPAQUE
UID:termine_Event.2023-03-03.1050072330_portal.mytum.de
DTSTART;TZID=Europe/Berlin:20230303T145500
ORGANIZER;CN="Peter Finger":mailto:finger@tum.de
DTSTAMP:20260423T085717
LAST-MODIFIED:20230303T152313
CATEGORIES:SOCIAL EVENT
SUMMARY:EARLY BIRD Anmeldung zum TUM Campuslauf 2023 gestartet
DESCRIPTION:DIE VORBEREITUNGEN FÜR DEN CAMPUSLAUF 2023 SIND ABGESCHLOSSEN - DIE ANMELDUNG IST MÖGLICH: Wir freuen wir uns sehr, euch und der gesamten TUM Community mitteilen zu können, dass am 10. Mai 2023 ab 17 Uhr der TUM Campuslauf 2023 starten wird. 
CONTACT:Peter Finger
LOCATION:Online
CLASS:PUBLIC
URL;VALUE=URL:https://portal.mytum.de/termine/Event.2023-03-03.1050072330
CREATED:20230303T145803
DTEND;TZID=Europe/Berlin:20180303T145500
END:VEVENT
END:VCALENDAR
