BEGIN:VCALENDAR
PRODID:-//Dr. Thomas Wagner\, TUM WWW & Online Services//myTUM Advanced Calendaring 0.1//DE
VERSION:2.0
METHOD:GET
BEGIN:VTIMEZONE
TZID:Europe/Berlin
BEGIN:STANDARD
DTSTART:20071028T010000
TZOFFSETTO:+0100
TZOFFSETFROM:+0000
TZNAME:CET
END:STANDARD
BEGIN:DAYLIGHT
TZOFFSETTO:+0200
TZOFFSETFROM:+0100
TZNAME:CEST
DTSTART:20080330T020000
END:DAYLIGHT
END:VTIMEZONE
BEGIN:VEVENT
SEQUENCE:1
TRANSP:OPAQUE
UID:termine_Event.2022-10-18.5950959233_portal.mytum.de
DTSTART;TZID=Europe/Berlin:20221018T093240
ORGANIZER;CN="ecns2023@mlz-garching.de":mailto:ecns2023@mlz-garching.de
DTSTAMP:20260424T034633
LAST-MODIFIED:20221018T104652
CATEGORIES:TAGUNG
SUMMARY:European Conference on Neutron Scattering (ECNS 2023)
DESCRIPTION:Die European Conference on Neutron Scattering 2023 ist die 8. Ausgabe dieser Konferenzserie. Sie richtet sich an alle Wissenschaftlerinnen und Wissenschaftler, die Neutronen für Ihre Forschung bereits nutzen oder nutzen möchten. Die Konferenz ist eine der wichtigsten in diesem Forschungsbereich und versammelt die europäische Community alle vier Jahre. 
CONTACT:ecns2023@mlz-garching.de
LOCATION:Fakultät für Maschinenwesen und Science Congress Center Munich, Garching
CLASS:PUBLIC
URL;VALUE=URL:https://portal.mytum.de/termine/Event.2022-10-18.5950959233
CREATED:20221018T104652
DTEND;TZID=Europe/Berlin:20221018T093240
END:VEVENT
END:VCALENDAR
