BEGIN:VCALENDAR
PRODID:-//Dr. Thomas Wagner\, TUM WWW & Online Services//myTUM Advanced Calendaring 0.1//DE
VERSION:2.0
METHOD:GET
BEGIN:VTIMEZONE
TZID:Europe/Berlin
BEGIN:STANDARD
DTSTART:20071028T010000
TZOFFSETTO:+0100
TZOFFSETFROM:+0000
TZNAME:CET
END:STANDARD
BEGIN:DAYLIGHT
TZOFFSETTO:+0200
TZOFFSETFROM:+0100
TZNAME:CEST
DTSTART:20080330T020000
END:DAYLIGHT
END:VTIMEZONE
BEGIN:VEVENT
SEQUENCE:1
TRANSP:OPAQUE
UID:termine_Event.2022-10-13.3127122283_portal.mytum.de
DTSTART;TZID=Europe/Berlin:20230131T183000
ORGANIZER;CN="Claudia Graf":mailto:claudia27.graf@tum.de
DTSTAMP:20260423T165912
LAST-MODIFIED:20221013T161022
CATEGORIES:VORTRAG
SUMMARY:Career Planning for Women
LOCATION:Online
CLASS:PUBLIC
URL;VALUE=URL:https://portal.mytum.de/termine/Event.2022-10-13.3127122283
CREATED:20221013T160540
DTEND;TZID=Europe/Berlin:20230131T193000
END:VEVENT
END:VCALENDAR
