BEGIN:VCALENDAR
PRODID:-//Dr. Thomas Wagner\, TUM WWW & Online Services//myTUM Advanced Calendaring 0.1//DE
VERSION:2.0
METHOD:GET
BEGIN:VTIMEZONE
TZID:Europe/Berlin
BEGIN:STANDARD
DTSTART:20071028T010000
TZOFFSETTO:+0100
TZOFFSETFROM:+0000
TZNAME:CET
END:STANDARD
BEGIN:DAYLIGHT
TZOFFSETTO:+0200
TZOFFSETFROM:+0100
TZNAME:CEST
DTSTART:20080330T020000
END:DAYLIGHT
END:VTIMEZONE
BEGIN:VEVENT
SEQUENCE:1
TRANSP:OPAQUE
UID:termine_Event.2022-09-19.5786776701_portal.mytum.de
DTSTART;TZID=Europe/Berlin:20220923T140000
ORGANIZER;CN="Alissa Lüpke alissa.luepke@tum.de":mailto:alissa.luepke@tum.de
DTSTAMP:20260424T152141
LAST-MODIFIED:20220919T172058
CATEGORIES:AUSSTELLUNG
SUMMARY:BAYSICS beim UTOPI.KA
DESCRIPTION:Mit der UTOPI.KA findet im September 2022 eine Großveranstaltung mit dem Fokus auf das Thema Zukunft statt. Hier stellt BAYSICS ihr Citizen Science Portal und den NatureExplorer vor und zeigt wie jede:r zum Klimaforscher werden kann. Freitag 23.09: 14:00 - 20:00 Samstag 24.09: 14:00 - 20:00
CONTACT:Alissa Lüpke alissa.luepke@tum.de
LOCATION:Kaufbeuren
CLASS:PUBLIC
URL;VALUE=URL:https://portal.mytum.de/termine/Event.2022-09-19.5786776701
CREATED:20220919T171242
DTEND;TZID=Europe/Berlin:20220924T200000
END:VEVENT
END:VCALENDAR
