BEGIN:VCALENDAR
PRODID:-//Dr. Thomas Wagner\, TUM WWW & Online Services//myTUM Advanced Calendaring 0.1//DE
VERSION:2.0
METHOD:GET
BEGIN:VTIMEZONE
TZID:Europe/Berlin
BEGIN:STANDARD
DTSTART:20071028T010000
TZOFFSETTO:+0100
TZOFFSETFROM:+0000
TZNAME:CET
END:STANDARD
BEGIN:DAYLIGHT
TZOFFSETTO:+0200
TZOFFSETFROM:+0100
TZNAME:CEST
DTSTART:20080330T020000
END:DAYLIGHT
END:VTIMEZONE
BEGIN:VEVENT
SEQUENCE:1
TRANSP:OPAQUE
UID:termine_Event.2022-09-01.8655518580_portal.mytum.de
DTSTART;TZID=Europe/Berlin:20220915T090000
ORGANIZER;CN="Sabrina Erlwein":mailto:sabrina.erlwein@tum.de
DTSTAMP:20260422T133836
LAST-MODIFIED:20220901T125318
CATEGORIES:WORKSHOP
SUMMARY:Beitrag Woche der Klimaanpassung
DESCRIPTION:Wie können Städte angesichts von Klimawandel und Siedlungsdruck lebenswert gestaltet werden? Anlässlich der Woche der Klimaanpassung (12.-16. 09.) veranstaltet das interdisziplinäre Forschungsprojekt "Grüne Stadt der Zukunft" (Finalist Deutscher Nachhaltigkeitspreis Forschung) einen zweiteiligen Input mit Vorträgen zu den Forschungsergebnissen und einer Podiumsdiskussion. 
CONTACT:Simone Linke, Sabrina Erlwein
LOCATION:Zoom (online)
CLASS:PUBLIC
URL;VALUE=URL:https://portal.mytum.de/termine/Event.2022-09-01.8655518580
ATTACH;VALUE=URI:https://portal.mytum.de/termine/Event.2022-09-01.8655518580/01
CREATED:20220901T102156
DTEND;TZID=Europe/Berlin:20220915T113000
END:VEVENT
END:VCALENDAR
