BEGIN:VCALENDAR
PRODID:-//Dr. Thomas Wagner\, TUM WWW & Online Services//myTUM Advanced Calendaring 0.1//DE
VERSION:2.0
METHOD:GET
BEGIN:VTIMEZONE
TZID:Europe/Berlin
BEGIN:STANDARD
DTSTART:20071028T010000
TZOFFSETTO:+0100
TZOFFSETFROM:+0000
TZNAME:CET
END:STANDARD
BEGIN:DAYLIGHT
TZOFFSETTO:+0200
TZOFFSETFROM:+0100
TZNAME:CEST
DTSTART:20080330T020000
END:DAYLIGHT
END:VTIMEZONE
BEGIN:VEVENT
SEQUENCE:1
TRANSP:OPAQUE
UID:termine_Event.2022-07-22.9724640474_portal.mytum.de
DTSTART;TZID=Europe/Berlin:20220728T110000
ORGANIZER;CN="Katharina Baumeister":mailto:katharina.baumeister@tum.de
DTSTAMP:20260422T115938
LAST-MODIFIED:20220726T084725
CATEGORIES:VORTRAG
SUMMARY:Verändertes Essverhalten Erwachsener seit Beginn der Pandemie? Welche Rolle spielt die Psyche dabei?
DESCRIPTION:Online-Expertengespräch des Else Kröner Fresenius Zentrums für Ernährungsmedizin am 28. Juli 2022 Verändertes Essverhalten Erwachsener seit Beginn der Pandemie? Welche Rolle spielt die Psyche dabei? Wissenschaftlerinnen und Wissenschaftler der Technischen Universität München (TUM) haben Erwachsene befragt, ob und wie weit sich Ernährung, Bewegung und Körpergewicht nach mehr als zwei Jahren Pandemie noch im Pandemie-Modus befinden oder sich wieder „normalisiert“ haben und welche Rolle die Psyche dabei spielt. Die Ergebnisse einer deutschlandweiten Befragung zum Thema Ernährung und Bewegung während der Pandemie (2. Welle) werden am 28. Juli 2022 um 11 Uhr online vorgestellt. 
CONTACT:Prof. Dr. med. Hans Hauner
LOCATION:online
CLASS:PUBLIC
URL;VALUE=URL:https://portal.mytum.de/termine/Event.2022-07-22.9724640474
CREATED:20220722T151303
DTEND;TZID=Europe/Berlin:20220728T120000
END:VEVENT
END:VCALENDAR
