BEGIN:VCALENDAR
PRODID:-//Dr. Thomas Wagner\, TUM WWW & Online Services//myTUM Advanced Calendaring 0.1//DE
VERSION:2.0
METHOD:GET
BEGIN:VTIMEZONE
TZID:Europe/Berlin
BEGIN:STANDARD
DTSTART:20071028T010000
TZOFFSETTO:+0100
TZOFFSETFROM:+0000
TZNAME:CET
END:STANDARD
BEGIN:DAYLIGHT
TZOFFSETTO:+0200
TZOFFSETFROM:+0100
TZNAME:CEST
DTSTART:20080330T020000
END:DAYLIGHT
END:VTIMEZONE
BEGIN:VEVENT
SEQUENCE:1
TRANSP:OPAQUE
UID:termine_Event.2022-05-26.9139583308_portal.mytum.de
DTSTART;TZID=Europe/Berlin:20220531T170000
ORGANIZER;CN="anna.kruspe@tum.de":mailto:anna.kruspe@tum.de
DTSTAMP:20260424T230624
LAST-MODIFIED:20220526T095752
CATEGORIES:VORTRAG
SUMMARY:Geodätisches Kolloquium
DESCRIPTION:"Neue Möglichkeiten der globalen Erdbeobachtung durch Kombination von Multi-Sensor-Daten und maschinelles Lernen" Vortrag + anschließendes Get-Together
CONTACT:anna.kruspe@tum.de
LOCATION;ALTREP="https://portal.mytum.de/displayRoomMap?roomid=0120@0501":0120@0501, Hörsaal, Gebäude 0501
CLASS:PUBLIC
URL;VALUE=URL:https://portal.mytum.de/termine/Event.2022-05-26.9139583308
CREATED:20220526T095534
DTEND;TZID=Europe/Berlin:20220531T190000
END:VEVENT
END:VCALENDAR
