BEGIN:VCALENDAR
PRODID:-//Dr. Thomas Wagner\, TUM WWW & Online Services//myTUM Advanced Calendaring 0.1//DE
VERSION:2.0
METHOD:GET
BEGIN:VTIMEZONE
TZID:Europe/Berlin
BEGIN:STANDARD
DTSTART:20071028T010000
TZOFFSETTO:+0100
TZOFFSETFROM:+0000
TZNAME:CET
END:STANDARD
BEGIN:DAYLIGHT
TZOFFSETTO:+0200
TZOFFSETFROM:+0100
TZNAME:CEST
DTSTART:20080330T020000
END:DAYLIGHT
END:VTIMEZONE
BEGIN:VEVENT
SEQUENCE:1
TRANSP:OPAQUE
UID:termine_Event.2022-05-05.1942972019_portal.mytum.de
DTSTART;TZID=Europe/Berlin:20220517T190000
ORGANIZER;CN="Katharina Baumeister":mailto:katharina.baumeister@tum.de
DTSTAMP:20260425T205840
LAST-MODIFIED:20220516T171631
CATEGORIES:VORTRAG
SUMMARY:Präsenzveranstaltung: Vortrag zu den Auswirkungen des Klimawandels auf die Natur
DESCRIPTION:Über die Auswirkungen des Klimawandels auf die Natur spricht Annette Menzel, Professorin für Ökoklimatologie an der TUM in Weihenstephan in einem Vortrag aus der Reihe TUM@Freising am 17. Mai ab 19 Uhr im Lindenkeller. Forschende der TUM School of Life Sciences berichten im Rahmen der Vortragsreihe über ihre Arbeit und laden ihr Publikum zum Dialog ein. Zum ersten Mal findet die Veranstaltung nun nach zweijähriger Pause wieder im Lindenkeller statt. 
CONTACT:vortragsreihe.freising[at]ls.tum.de
LOCATION:Freising, Lindenkeller und online
CLASS:PUBLIC
URL;VALUE=URL:https://portal.mytum.de/termine/Event.2022-05-05.1942972019
CREATED:20220505T110725
DTEND;TZID=Europe/Berlin:20220517T203000
END:VEVENT
END:VCALENDAR
