BEGIN:VCALENDAR
PRODID:-//Dr. Thomas Wagner\, TUM WWW & Online Services//myTUM Advanced Calendaring 0.1//DE
VERSION:2.0
METHOD:GET
BEGIN:VTIMEZONE
TZID:Europe/Berlin
BEGIN:STANDARD
DTSTART:20071028T010000
TZOFFSETTO:+0100
TZOFFSETFROM:+0000
TZNAME:CET
END:STANDARD
BEGIN:DAYLIGHT
TZOFFSETTO:+0200
TZOFFSETFROM:+0100
TZNAME:CEST
DTSTART:20080330T020000
END:DAYLIGHT
END:VTIMEZONE
BEGIN:VEVENT
SEQUENCE:1
TRANSP:OPAQUE
UID:termine_Event.2022-05-02.4172919412_portal.mytum.de
DTSTART;TZID=Europe/Berlin:20220625T100000
ORGANIZER;CN="Andrea Göttler":mailto:andrea.goettler@tum.de
DTSTAMP:20260424T052602
LAST-MODIFIED:20220502T181257
CATEGORIES:WORKSHOP
SUMMARY:#breakingtraditions Frauen.Karriere.Sport
DESCRIPTION:Karrieretag für Frauen im Sport organisiert von der Fakultät für Sport- und Gesundheitswissenschaften gemeinsam mit dem Olympiastützpunkt Bayern
CONTACT:Andrea Göttler
LOCATION:TUM Campus im Olympiapark
CLASS:PUBLIC
URL;VALUE=URL:https://portal.mytum.de/termine/Event.2022-05-02.4172919412
CREATED:20220502T180639
DTEND;TZID=Europe/Berlin:20220625T180000
END:VEVENT
END:VCALENDAR
