BEGIN:VCALENDAR
PRODID:-//Dr. Thomas Wagner\, TUM WWW & Online Services//myTUM Advanced Calendaring 0.1//DE
VERSION:2.0
METHOD:GET
BEGIN:VTIMEZONE
TZID:Europe/Berlin
BEGIN:STANDARD
DTSTART:20071028T010000
TZOFFSETTO:+0100
TZOFFSETFROM:+0000
TZNAME:CET
END:STANDARD
BEGIN:DAYLIGHT
TZOFFSETTO:+0200
TZOFFSETFROM:+0100
TZNAME:CEST
DTSTART:20080330T020000
END:DAYLIGHT
END:VTIMEZONE
BEGIN:VEVENT
SEQUENCE:1
TRANSP:OPAQUE
UID:termine_Event.2022-03-29.5762738181_portal.mytum.de
DTSTART;TZID=Europe/Berlin:20220421T170000
ORGANIZER;CN="Petra Wick":mailto:petra.wick@tum.de
DTSTAMP:20260422T074814
LAST-MODIFIED:20220329T121252
CATEGORIES:VORTRAG
SUMMARY:The study of MONOPTEROS reveals a complex network for auxin response regulation.
CONTACT:Prof. Dr. Kay Schneitz, TUM-SoLS
LOCATION:Biologikum, HS12, Emil-Ramann-Straße 2, Freising
CLASS:PUBLIC
URL;VALUE=URL:https://portal.mytum.de/termine/Event.2022-03-29.5762738181
CREATED:20220329T121252
DTEND;TZID=Europe/Berlin:20220421T183000
END:VEVENT
END:VCALENDAR
