BEGIN:VCALENDAR
PRODID:-//Dr. Thomas Wagner\, TUM WWW & Online Services//myTUM Advanced Calendaring 0.1//DE
VERSION:2.0
METHOD:GET
BEGIN:VTIMEZONE
TZID:Europe/Berlin
BEGIN:STANDARD
DTSTART:20071028T010000
TZOFFSETTO:+0100
TZOFFSETFROM:+0000
TZNAME:CET
END:STANDARD
BEGIN:DAYLIGHT
TZOFFSETTO:+0200
TZOFFSETFROM:+0100
TZNAME:CEST
DTSTART:20080330T020000
END:DAYLIGHT
END:VTIMEZONE
BEGIN:VEVENT
SEQUENCE:1
TRANSP:OPAQUE
UID:termine_Event.2022-03-15.9436578150_portal.mytum.de
DTSTART;TZID=Europe/Berlin:20220330T110000
ORGANIZER;CN="Chiu-Li Tseng;":mailto:chiu-li.tseng@tum.de
DTSTAMP:20260423T004116
LAST-MODIFIED:20220315T223058
SUMMARY:TUM Master's Days 2022--Masterstudiengänge Wirtschaftspädagogik I und II
DESCRIPTION:Masterstudiengänge Wirtschaftspädagogik I und II
CLASS:PUBLIC
URL;VALUE=URL:https://portal.mytum.de/termine/Event.2022-03-15.9436578150
CREATED:20220315T223058
DTEND;TZID=Europe/Berlin:20220330T130000
END:VEVENT
END:VCALENDAR
