BEGIN:VCALENDAR
PRODID:-//Dr. Thomas Wagner\, TUM WWW & Online Services//myTUM Advanced Calendaring 0.1//DE
VERSION:2.0
METHOD:GET
BEGIN:VTIMEZONE
TZID:Europe/Berlin
BEGIN:STANDARD
DTSTART:20071028T010000
TZOFFSETTO:+0100
TZOFFSETFROM:+0000
TZNAME:CET
END:STANDARD
BEGIN:DAYLIGHT
TZOFFSETTO:+0200
TZOFFSETFROM:+0100
TZNAME:CEST
DTSTART:20080330T020000
END:DAYLIGHT
END:VTIMEZONE
BEGIN:VEVENT
SEQUENCE:1
TRANSP:OPAQUE
UID:termine_Event.2022-03-15.4024578088_portal.mytum.de
DTSTART;TZID=Europe/Berlin:20220406T150000
ORGANIZER;CN="Chiu-Li Tseng;":mailto:chiu-li.tseng@tum.de
DTSTAMP:20260420T211150
LAST-MODIFIED:20220315T155025
CATEGORIES:VORTRAG
SUMMARY:TUM Master´s Days- Masterstudiengänge Chemie, Biochemie, Chemie-Ingenieurwesen
CLASS:PUBLIC
URL;VALUE=URL:https://portal.mytum.de/termine/Event.2022-03-15.4024578088
CREATED:20220315T123135
DTEND;TZID=Europe/Berlin:20220406T170000
END:VEVENT
END:VCALENDAR
