BEGIN:VCALENDAR
PRODID:-//Dr. Thomas Wagner\, TUM WWW & Online Services//myTUM Advanced Calendaring 0.1//DE
VERSION:2.0
METHOD:GET
BEGIN:VTIMEZONE
TZID:Europe/Berlin
BEGIN:STANDARD
DTSTART:20071028T010000
TZOFFSETTO:+0100
TZOFFSETFROM:+0000
TZNAME:CET
END:STANDARD
BEGIN:DAYLIGHT
TZOFFSETTO:+0200
TZOFFSETFROM:+0100
TZNAME:CEST
DTSTART:20080330T020000
END:DAYLIGHT
END:VTIMEZONE
BEGIN:VEVENT
SEQUENCE:1
TRANSP:OPAQUE
UID:termine_Event.2022-02-22.8429779662_portal.mytum.de
DTSTART;TZID=Europe/Berlin:20220224T171500
ORGANIZER;CN="Petra Wick":mailto:petra.wick@tum.de
DTSTAMP:20260423T055317
LAST-MODIFIED:20220222T101002
CATEGORIES:VORTRAG
SUMMARY:Getting organised - the evolutionary adjustment of meiosis in polyploids.
CONTACT:Prof. Dr. Claus Schwechheimer
LOCATION:Zoom
CLASS:PUBLIC
URL;VALUE=URL:https://portal.mytum.de/termine/Event.2022-02-22.8429779662
CREATED:20220222T100323
DTEND;TZID=Europe/Berlin:20220224T183000
END:VEVENT
END:VCALENDAR
