BEGIN:VCALENDAR
PRODID:-//Dr. Thomas Wagner\, TUM WWW & Online Services//myTUM Advanced Calendaring 0.1//DE
VERSION:2.0
METHOD:GET
BEGIN:VTIMEZONE
TZID:Europe/Berlin
BEGIN:STANDARD
DTSTART:20071028T010000
TZOFFSETTO:+0100
TZOFFSETFROM:+0000
TZNAME:CET
END:STANDARD
BEGIN:DAYLIGHT
TZOFFSETTO:+0200
TZOFFSETFROM:+0100
TZNAME:CEST
DTSTART:20080330T020000
END:DAYLIGHT
END:VTIMEZONE
BEGIN:VEVENT
SEQUENCE:1
TRANSP:OPAQUE
UID:termine_Event.2022-02-08.4812222236_portal.mytum.de
DTSTART;TZID=Europe/Berlin:20220930T140000
ORGANIZER;CN="Julia Hinderink":mailto:julia.hinderink@tum.de
DTSTAMP:20260426T004728
LAST-MODIFIED:20220208T140927
CATEGORIES:SOCIAL EVENT
SUMMARY:Think.Make.Start. Demoday batch#15,16
DESCRIPTION:Think.Make.Start. DEMODAY batch#15,16 _ Please join us online for the grand finale of TMS on 30.09.2022 from 2pm till 4 pm. A link to the livestream is provided on our website: @www.tms.tum.de
CONTACT:Julia Hinderink
LOCATION:TUM Entrepreneurship Research Institute, Garching
CLASS:PUBLIC
URL;VALUE=URL:https://portal.mytum.de/termine/Event.2022-02-08.4812222236
CREATED:20220208T140927
DTEND;TZID=Europe/Berlin:20220930T160000
END:VEVENT
END:VCALENDAR
