BEGIN:VCALENDAR
PRODID:-//Dr. Thomas Wagner\, TUM WWW & Online Services//myTUM Advanced Calendaring 0.1//DE
VERSION:2.0
METHOD:GET
BEGIN:VTIMEZONE
TZID:Europe/Berlin
BEGIN:STANDARD
DTSTART:20071028T010000
TZOFFSETTO:+0100
TZOFFSETFROM:+0000
TZNAME:CET
END:STANDARD
BEGIN:DAYLIGHT
TZOFFSETTO:+0200
TZOFFSETFROM:+0100
TZNAME:CEST
DTSTART:20080330T020000
END:DAYLIGHT
END:VTIMEZONE
BEGIN:VEVENT
SEQUENCE:1
TRANSP:OPAQUE
UID:termine_Event.2021-11-03.2096263415_portal.mytum.de
DTSTART;TZID=Europe/Berlin:20211107T000000
ORGANIZER;CN="Peter Finger":mailto:finger@tum.de
DTSTAMP:20260424T060203
LAST-MODIFIED:20211103T181235
SUMMARY:Science Hack - 2021-II - last day to register
DESCRIPTION:The TUM: Science Hackathon is hosted by TUM: Junge Akademie and is your chance to collaborate with other students (Bachelor, Master, and PhD) from all universities of Munich (TUM, LMU, HM, HFF, HMTM and ADBK) as well as from the five EuroTeQ university partners (TUM, DTU, TU/e, l'X, CTU, TalTech), who are interested in working on problems related to contemporary scientific issues and modern-day technologies.
CONTACT:Peter Finger
CLASS:PUBLIC
URL;VALUE=URL:https://portal.mytum.de/termine/Event.2021-11-03.2096263415
CREATED:20211103T181235
DTEND;TZID=Europe/Berlin:20211107T235500
END:VEVENT
END:VCALENDAR
