BEGIN:VCALENDAR
PRODID:-//Dr. Thomas Wagner\, TUM WWW & Online Services//myTUM Advanced Calendaring 0.1//DE
VERSION:2.0
METHOD:GET
BEGIN:VTIMEZONE
TZID:Europe/Berlin
BEGIN:STANDARD
DTSTART:20071028T010000
TZOFFSETTO:+0100
TZOFFSETFROM:+0000
TZNAME:CET
END:STANDARD
BEGIN:DAYLIGHT
TZOFFSETTO:+0200
TZOFFSETFROM:+0100
TZNAME:CEST
DTSTART:20080330T020000
END:DAYLIGHT
END:VTIMEZONE
BEGIN:VEVENT
SEQUENCE:1
TRANSP:OPAQUE
UID:termine_Event.2021-10-26.1800858171_portal.mytum.de
DTSTART;TZID=Europe/Berlin:20211202T160000
ORGANIZER;CN="Ana Dzhigovechki":mailto:ana.pantaleeva@tum.de
DTSTAMP:20260420T191124
LAST-MODIFIED:20211026T103059
CATEGORIES:VORTRAG
SUMMARY:Stressmanagement für Studierende mit Kind
DESCRIPTION:Fragen Sie sich auch, wie Sie Studium und Familie unter einen Hut bringen können? Wie Sie einen weniger stressigen Alltag und einen besseren Ausgleich erreichen können?
LOCATION:Virtuell über GoToMeeting
CLASS:PUBLIC
URL;VALUE=URL:https://portal.mytum.de/termine/Event.2021-10-26.1800858171
CREATED:20211026T103018
DTEND;TZID=Europe/Berlin:20211202T173000
END:VEVENT
END:VCALENDAR
