BEGIN:VCALENDAR
PRODID:-//Dr. Thomas Wagner\, TUM WWW & Online Services//myTUM Advanced Calendaring 0.1//DE
VERSION:2.0
METHOD:GET
BEGIN:VTIMEZONE
TZID:Europe/Berlin
BEGIN:STANDARD
DTSTART:20071028T010000
TZOFFSETTO:+0100
TZOFFSETFROM:+0000
TZNAME:CET
END:STANDARD
BEGIN:DAYLIGHT
TZOFFSETTO:+0200
TZOFFSETFROM:+0100
TZNAME:CEST
DTSTART:20080330T020000
END:DAYLIGHT
END:VTIMEZONE
BEGIN:VEVENT
SEQUENCE:1
TRANSP:OPAQUE
UID:termine_Event.2021-10-25.6586104208_portal.mytum.de
DTSTART;TZID=Europe/Berlin:20220627T080000
ORGANIZER;CN="globalweek.zv@tum.de":mailto:globalweek.zv@tum.de
DTSTAMP:20260421T022943
LAST-MODIFIED:20220506T130510
CATEGORIES:VORTRAG
SUMMARY:TUM Global Week
DESCRIPTION:Jedes Jahr bietet das TUM Global & Alumni Office mit der TUM Global Week eine Plattform für den Austausch rund um die Themen Internationalisierung, internationale Erfahrung und viele interessante Themen von globaler Bedeutung für die gesamte TUM-Familie, internationale Partner und Expert:innen aus unterschiedlichen Bereichen. Neben zahlreichen Informations- und Netzwerkveranstaltungen für Studierende, Wissenschaftler:innen, Doktorand:innen, Verwaltungsmitarbeitende, TUM Alumni und die internationalen Partner der TUM, ist die Woche Anlass für das jährliche Zusammentreffen der weltweiten TUM Liaison Officer mit der TUM Community. Freuen Sie sich auf ein vielseitiges Programm und erfahren Sie mehr über unterschiedliche Austausch- und Fördermöglichkeiten sowie internationale Forschungstrends, über die TUM und ihr Angebot für internationale Studierende, über unsere Flaggschiff- Partnerschaften mit dem Imperial College London, der Tsinghua-Universität sowie der University of Queensland und über die EuroTech Allianz und die EuroTeQ Engineering University. Wie jedes Jahr haben Sie außerdem die Möglichkeit sich mit unseren Liaison Officern der fünf Verbindungsbüros in Beijing, Brüssel, Mumbai, San Francisco und São Paulo sowie mit den Kolleginnen und Kollegen des Campus in Singapur (TUM Asia) auszutauschen. Wir freuen uns auf Sie.
CONTACT:globalweek.zv@tum.de
LOCATION:Online/ TUM Munich City Campus
CLASS:PUBLIC
URL;VALUE=URL:https://portal.mytum.de/termine/Event.2021-10-25.6586104208
CREATED:20211025T105108
DTEND;TZID=Europe/Berlin:20220701T200000
END:VEVENT
END:VCALENDAR
