BEGIN:VCALENDAR
PRODID:-//Dr. Thomas Wagner\, TUM WWW & Online Services//myTUM Advanced Calendaring 0.1//DE
VERSION:2.0
METHOD:GET
BEGIN:VTIMEZONE
TZID:Europe/Berlin
BEGIN:STANDARD
DTSTART:20071028T010000
TZOFFSETTO:+0100
TZOFFSETFROM:+0000
TZNAME:CET
END:STANDARD
BEGIN:DAYLIGHT
TZOFFSETTO:+0200
TZOFFSETFROM:+0100
TZNAME:CEST
DTSTART:20080330T020000
END:DAYLIGHT
END:VTIMEZONE
BEGIN:VEVENT
SEQUENCE:1
TRANSP:OPAQUE
UID:termine_Event.2021-10-21.1703514688_portal.mytum.de
DTSTART;TZID=Europe/Berlin:20211108T090000
ORGANIZER;CN="Kirsten Alexander":mailto:kirsten.bannert@tum.de
DTSTAMP:20260425T045427
LAST-MODIFIED:20211021T172846
CATEGORIES:WORKSHOP
SUMMARY:TUM4Mind - Digitale Aktionswoche Mental Health
DESCRIPTION:14 Online Events für TUM Studierende rund um das Thema Mental Health
CONTACT:Kirsten Bannert 
LOCATION:virtuell
CLASS:PUBLIC
URL;VALUE=URL:https://portal.mytum.de/termine/Event.2021-10-21.1703514688
ATTACH;VALUE=URI:http://www.tum.de/tum4mind
CREATED:20211021T172846
DTEND;TZID=Europe/Berlin:20211112T150000
END:VEVENT
END:VCALENDAR
