BEGIN:VCALENDAR
PRODID:-//Dr. Thomas Wagner\, TUM WWW & Online Services//myTUM Advanced Calendaring 0.1//DE
VERSION:2.0
METHOD:GET
BEGIN:VTIMEZONE
TZID:Europe/Berlin
BEGIN:STANDARD
DTSTART:20071028T010000
TZOFFSETTO:+0100
TZOFFSETFROM:+0000
TZNAME:CET
END:STANDARD
BEGIN:DAYLIGHT
TZOFFSETTO:+0200
TZOFFSETFROM:+0100
TZNAME:CEST
DTSTART:20080330T020000
END:DAYLIGHT
END:VTIMEZONE
BEGIN:VEVENT
SEQUENCE:1
TRANSP:OPAQUE
UID:termine_Event.2021-06-17.1624419208_portal.mytum.de
DTSTART;TZID=Europe/Berlin:20210701T180000
ORGANIZER;CN="Andreas Battenberg":mailto:battenberg@tum.de
DTSTAMP:20260420T232014
LAST-MODIFIED:20210617T113329
CATEGORIES:VORTRAG
SUMMARY:Quantensprung - Transfer von der Forschung in die Wirtschaft
DESCRIPTION:Im Munich Quantum Valley haben sich die Bayerische Akademie der Wissenschaften, die Fraunhofer-Gesellschaft, die Max-Planck-Gesellschaft und die beiden Münchner Universitäten LMU und TUM zusammengeschlossen, um ihre Expertise in Quantenwissenschaften und -technologien zu bündeln und sich mit den anderen bayerischen Standorten noch besser zu vernetzen. In diesem Zusammenschluss, den der Freistaat mit insgesamt 300 Millionen Euro fördern will, möchte Bayern die nationale und europäische Quantenstrategie voranbringen.
CONTACT:Simone Sokolis (BAdW)
LOCATION:Bayerische Akademie der Wissenschaften, Alfons-Goppel-Straße 11 (Residenz), 80539 München und Online
CLASS:PUBLIC
URL;VALUE=URL:https://portal.mytum.de/termine/Event.2021-06-17.1624419208
ATTACH;VALUE=URI:http://www.badw.de/
CREATED:20210617T113329
DTEND;TZID=Europe/Berlin:20210701T193000
END:VEVENT
END:VCALENDAR
