BEGIN:VCALENDAR
PRODID:-//Dr. Thomas Wagner\, TUM WWW & Online Services//myTUM Advanced Calendaring 0.1//DE
VERSION:2.0
METHOD:GET
BEGIN:VTIMEZONE
TZID:Europe/Berlin
BEGIN:STANDARD
DTSTART:20071028T010000
TZOFFSETTO:+0100
TZOFFSETFROM:+0000
TZNAME:CET
END:STANDARD
BEGIN:DAYLIGHT
TZOFFSETTO:+0200
TZOFFSETFROM:+0100
TZNAME:CEST
DTSTART:20080330T020000
END:DAYLIGHT
END:VTIMEZONE
BEGIN:VEVENT
SEQUENCE:1
TRANSP:OPAQUE
UID:termine_Event.2021-05-04.6649964285_portal.mytum.de
DTSTART;TZID=Europe/Berlin:20210505T113000
ORGANIZER;CN="Marion Friederich":mailto:m.friederich@tum.de
DTSTAMP:20260423T210646
LAST-MODIFIED:20210504T142207
CATEGORIES:SOCIAL EVENT
SUMMARY:TUMgesund: Bewegte Pause - Digitales Bewegungsangebot am Arbeitsplatz
DESCRIPTION:Machen Sie mit - Halten Sie sich fit! In fünf Live-Sessions von nur 10-12 Minuten einmal wöchentlich (Start: Mi, 21.04.2021, 11.30 Uhr) werden einfache und effektive Übungen zur Haltungsverbesserung am Arbeitspatz, Mobilisation und Dehnung, sowie Kräftigung und Entspannung angeboten. Die Livesession und die einzelnen Übungen können jederzeit on demand über die Homepage aberufen werden.
CONTACT:TUMgesund - Marion Friederich
LOCATION:zoom
CLASS:PUBLIC
URL;VALUE=URL:https://portal.mytum.de/termine/Event.2021-05-04.6649964285
CREATED:20210504T121614
DTEND;TZID=Europe/Berlin:20210505T114500
END:VEVENT
END:VCALENDAR
