BEGIN:VCALENDAR
PRODID:-//Dr. Thomas Wagner\, TUM WWW & Online Services//myTUM Advanced Calendaring 0.1//DE
VERSION:2.0
METHOD:GET
BEGIN:VTIMEZONE
TZID:Europe/Berlin
BEGIN:STANDARD
DTSTART:20071028T010000
TZOFFSETTO:+0100
TZOFFSETFROM:+0000
TZNAME:CET
END:STANDARD
BEGIN:DAYLIGHT
TZOFFSETTO:+0200
TZOFFSETFROM:+0100
TZNAME:CEST
DTSTART:20080330T020000
END:DAYLIGHT
END:VTIMEZONE
BEGIN:VEVENT
SEQUENCE:1
TRANSP:OPAQUE
UID:termine_Event.2020-11-03.4500551149_portal.mytum.de
DTSTART;TZID=Europe/Berlin:20201216T133000
ORGANIZER;CN="Bianca Biebl (bianca.biebl@tum.de)":mailto:bianca.biebl@tum.de
DTSTAMP:20260425T131931
LAST-MODIFIED:20201103T112454
CATEGORIES:VORTRAG
SUMMARY:Driving Despite Impairments - Safety and Equity Issues in Connected and Automated Vehicles
DESCRIPTION:With demographic change, an increasing number of people is excluded from driving due to physical or cognitive limitations. While impairments like visual deficits can have a great impact on driving safety and performance, the development of automated vehicles offers the potential of including such non-drivers in road traffic in the future. With an international composition of renowned scientists, this weekly webinar sheds light on manual and automated driving for visually impaired users in front of the background of psychology, ophthalmology, computer science and sociology. Further information on the individual lectures can be found under the connected URL.
CONTACT:Bianca Biebl (bianca.biebl@tum.de)
LOCATION:online
CLASS:PUBLIC
URL;VALUE=URL:https://portal.mytum.de/termine/Event.2020-11-03.4500551149
CREATED:20201103T112357
DTEND;TZID=Europe/Berlin:20201216T143000
END:VEVENT
END:VCALENDAR
