BEGIN:VCALENDAR
PRODID:-//Dr. Thomas Wagner\, TUM WWW & Online Services//myTUM Advanced Calendaring 0.1//DE
VERSION:2.0
METHOD:GET
BEGIN:VTIMEZONE
TZID:Europe/Berlin
BEGIN:STANDARD
DTSTART:20071028T010000
TZOFFSETTO:+0100
TZOFFSETFROM:+0000
TZNAME:CET
END:STANDARD
BEGIN:DAYLIGHT
TZOFFSETTO:+0200
TZOFFSETFROM:+0100
TZNAME:CEST
DTSTART:20080330T020000
END:DAYLIGHT
END:VTIMEZONE
BEGIN:VEVENT
SEQUENCE:1
TRANSP:OPAQUE
UID:termine_Event.2020-07-15.2667815317_portal.mytum.de
DTSTART;TZID=Europe/Berlin:20201021T120000
ORGANIZER;CN="Denise Pasqualini":mailto:d.pasqualini@tum.de
DTSTAMP:20260424T230058
LAST-MODIFIED:20200916T161838
CATEGORIES:SOCIAL EVENT
SUMMARY:TUM Virtual Master's Fair
DESCRIPTION:Your online event for studies and careers
CLASS:PUBLIC
URL;VALUE=URL:https://portal.mytum.de/termine/Event.2020-07-15.2667815317
CREATED:20200715T080507
DTEND;TZID=Europe/Berlin:20201021T160000
END:VEVENT
END:VCALENDAR
