BEGIN:VCALENDAR
PRODID:-//Dr. Thomas Wagner\, TUM WWW & Online Services//myTUM Advanced Calendaring 0.1//DE
VERSION:2.0
METHOD:GET
BEGIN:VTIMEZONE
TZID:Europe/Berlin
BEGIN:STANDARD
DTSTART:20071028T010000
TZOFFSETTO:+0100
TZOFFSETFROM:+0000
TZNAME:CET
END:STANDARD
BEGIN:DAYLIGHT
TZOFFSETTO:+0200
TZOFFSETFROM:+0100
TZNAME:CEST
DTSTART:20080330T020000
END:DAYLIGHT
END:VTIMEZONE
BEGIN:VEVENT
SEQUENCE:1
TRANSP:OPAQUE
UID:termine_Event.2020-01-09.2944871384_portal.mytum.de
DTSTART;TZID=Europe/Berlin:20200121T183000
ORGANIZER;CN="Anabel Harisch":mailto:anabel.harisch@tum.de
DTSTAMP:20260423T071834
LAST-MODIFIED:20200109T141320
CATEGORIES:VORTRAG
SUMMARY:Tech-Histories Alive - Prof. Dr. Christian Peschel: „Stammzellen als therapeutisches Prinzip. Chancen und Herausforderungen“
DESCRIPTION:In seinem Vortrag wird Prof. Peschel über die Entwicklungen der Stammzellbiologie und Zelltherapie auf dem Gebiet der Hämatologie berichten. Darüber hinaus werden Perspektiven, Chancen und Limitationen einer Therapie mit Stammzellen in anderen Organsystemen dargestellt.
LOCATION:Vorhoelzer-Forum
CLASS:PUBLIC
URL;VALUE=URL:https://portal.mytum.de/termine/Event.2020-01-09.2944871384
CREATED:20200109T140706
DTEND;TZID=Europe/Berlin:20200121T213000
END:VEVENT
END:VCALENDAR
