BEGIN:VCALENDAR
PRODID:-//Dr. Thomas Wagner\, TUM WWW & Online Services//myTUM Advanced Calendaring 0.1//DE
VERSION:2.0
METHOD:GET
BEGIN:VTIMEZONE
TZID:Europe/Berlin
BEGIN:STANDARD
DTSTART:20071028T010000
TZOFFSETTO:+0100
TZOFFSETFROM:+0000
TZNAME:CET
END:STANDARD
BEGIN:DAYLIGHT
TZOFFSETTO:+0200
TZOFFSETFROM:+0100
TZNAME:CEST
DTSTART:20080330T020000
END:DAYLIGHT
END:VTIMEZONE
BEGIN:VEVENT
SEQUENCE:1
TRANSP:OPAQUE
UID:termine_Event.2019-09-16.4872005011_portal.mytum.de
DTSTART;TZID=Europe/Berlin:20191010T090000
ORGANIZER;CN="Wolfgang Zehlius-Eckert, E-Mail: zehlius@tum.de, Tel: 01577/4352959":mailto:zehlius@tum.de
DTSTAMP:20260425T183815
LAST-MODIFIED:20190916T172043
CATEGORIES:TAGUNG
SUMMARY:7. Forum Agroforstsysteme: Blick aufs Ganze! Innovative Landnutzung mit vielfältigen Funktionen in der Kulturlandschaft
DESCRIPTION:Erstmals in Bayern findet in Freising das 7. Forum Agroforstsysteme unter dem Mot-to "Blick aufs Ganze! Innovative Landnutzung mit vielfältigen Funktionen in der Kul-turlandschaft" statt. Die Tagung versteht sich als Plattform für Praxis, Forschung und Beratung der Agroforstwirtschaft im deutschsprachigen Raum. Die Veranstalter möchten Praktiker, Berater und Wissenschaftler gleichermaßen ansprechen und den Austausch untereinander fördern. Das Forum Agroforstsysteme richtet den Blick auf die Vielfalt der Systeme. Im Fokus stehen aber auch ökologische, ökonomische, landschaftsgestalterische, produktionstechnische und rechtliche Aspekte. Neben den aktuellen Forschungsergebnissen regen dringende agroforstliche Fragestellungen zur Diskussion an. Am zweiten Tag finden zur praxisnahen Veranschaulichung Fa-chexkursionen zu Betrieben in der Region statt.
CONTACT:Wolfgang Zehlius-Eckert, E-Mail: zehlius@tum.de, Tel: 01577/4352959
LOCATION:TU München, Studienfakultät Forstwissenschaft und Ressourcenmanagement, Hörsaal 21; Hans-Carl-von-Carlowitz-Platz 2, 85354 Freising
CLASS:PUBLIC
URL;VALUE=URL:https://portal.mytum.de/termine/Event.2019-09-16.4872005011
ATTACH;VALUE=URI:https://portal.mytum.de/termine/Event.2019-09-16.4872005011/Flyer
CREATED:20190916T170303
DTEND;TZID=Europe/Berlin:20191011T170000
END:VEVENT
END:VCALENDAR
