BEGIN:VCALENDAR
PRODID:-//Dr. Thomas Wagner\, TUM WWW & Online Services//myTUM Advanced Calendaring 0.1//DE
VERSION:2.0
METHOD:GET
BEGIN:VTIMEZONE
TZID:Europe/Berlin
BEGIN:STANDARD
DTSTART:20071028T010000
TZOFFSETTO:+0100
TZOFFSETFROM:+0000
TZNAME:CET
END:STANDARD
BEGIN:DAYLIGHT
TZOFFSETTO:+0200
TZOFFSETFROM:+0100
TZNAME:CEST
DTSTART:20080330T020000
END:DAYLIGHT
END:VTIMEZONE
BEGIN:VEVENT
SEQUENCE:1
TRANSP:OPAQUE
UID:termine_Event.2019-07-16.2547740216_portal.mytum.de
DTSTART;TZID=Europe/Berlin:20200126T110000
ORGANIZER;CN="Yves Vincent Grossmann":mailto:yv.grossmann@tum.de
DTSTAMP:20260424T032841
LAST-MODIFIED:20190716T151158
CATEGORIES:VORTRAG
SUMMARY:Das Gehirn, ein Supercomputer auf Sparflamme? Die Rolle von Mitochondrien im Nervensystem
CONTACT:Dr. Yves Vincent Grossmann
LOCATION:Auditorium, TUM Institute for Advanced Study, Lichtenbergstrasse 2 a, 85748 Garching
CLASS:PUBLIC
URL;VALUE=URL:https://portal.mytum.de/termine/Event.2019-07-16.2547740216
CREATED:20190716T151158
DTEND;TZID=Europe/Berlin:20200126T123000
END:VEVENT
END:VCALENDAR
