BEGIN:VCALENDAR
PRODID:-//Dr. Thomas Wagner\, TUM WWW & Online Services//myTUM Advanced Calendaring 0.1//DE
VERSION:2.0
METHOD:GET
BEGIN:VTIMEZONE
TZID:Europe/Berlin
BEGIN:STANDARD
DTSTART:20071028T010000
TZOFFSETTO:+0100
TZOFFSETFROM:+0000
TZNAME:CET
END:STANDARD
BEGIN:DAYLIGHT
TZOFFSETTO:+0200
TZOFFSETFROM:+0100
TZNAME:CEST
DTSTART:20080330T020000
END:DAYLIGHT
END:VTIMEZONE
BEGIN:VEVENT
SEQUENCE:1
TRANSP:OPAQUE
UID:termine_Event.2019-07-01.8425594688_portal.mytum.de
DTSTART;TZID=Europe/Berlin:20190710T193000
ORGANIZER;CN="Andreas Battenberg":mailto:battenberg@tum.de
DTSTAMP:20260423T070730
LAST-MODIFIED:20190701T195424
CATEGORIES:VORTRAG
SUMMARY:Quantentechnologie - 100 Mio. Euro für Garching - Was macht die Wissenschaft damit? Wie verändert die Quantentechnologie unseren Alltag?
DESCRIPTION:Quantencomputer, die mehr leisten als unsere heutigen Supercomputer, abhörsichere Quantenkommunikation, hochempfindliche Quantensensoren: Grundlage für diese faszinierenden Anwendungsfelder sind die „Quantentechnologien 2.0“ – und Garching soll durch Investitionen von mehr als 100 Mio. Euro ein international führendes Zentrum für diese wichtigen Zukunftstechnologien werden. 
CONTACT:Dr. Andreas Battenberg
LOCATION:Stadtbücherei Garching, Bürgerplatz 11, 85748 Garching
CLASS:PUBLIC
URL;VALUE=URL:https://portal.mytum.de/termine/Event.2019-07-01.8425594688
CREATED:20190701T195000
DTEND;TZID=Europe/Berlin:20190710T213000
END:VEVENT
END:VCALENDAR
