BEGIN:VCALENDAR
PRODID:-//Dr. Thomas Wagner\, TUM WWW & Online Services//myTUM Advanced Calendaring 0.1//DE
VERSION:2.0
METHOD:GET
BEGIN:VTIMEZONE
TZID:Europe/Berlin
BEGIN:STANDARD
DTSTART:20071028T010000
TZOFFSETTO:+0100
TZOFFSETFROM:+0000
TZNAME:CET
END:STANDARD
BEGIN:DAYLIGHT
TZOFFSETTO:+0200
TZOFFSETFROM:+0100
TZNAME:CEST
DTSTART:20080330T020000
END:DAYLIGHT
END:VTIMEZONE
BEGIN:VEVENT
SEQUENCE:1
TRANSP:OPAQUE
UID:termine_Event.2019-06-11.7347510587_portal.mytum.de
DTSTART;TZID=Europe/Berlin:20190619T173000
ORGANIZER;CN="srmtalks@wzw.tum.de":mailto:srmtalks@wzw.tum.de
DTSTAMP:20260425T181707
LAST-MODIFIED:20190611T114229
CATEGORIES:VORTRAG
SUMMARY:SRM Talks #16 Environmental Justice
CONTACT:srmtalks@wzw.tum.de
LOCATION:Hörsaal 23
CLASS:PUBLIC
URL;VALUE=URL:https://portal.mytum.de/termine/Event.2019-06-11.7347510587
CREATED:20190611T114229
DTEND;TZID=Europe/Berlin:20190619T200000
END:VEVENT
END:VCALENDAR
