BEGIN:VCALENDAR
PRODID:-//Dr. Thomas Wagner\, TUM WWW & Online Services//myTUM Advanced Calendaring 0.1//DE
VERSION:2.0
METHOD:GET
BEGIN:VTIMEZONE
TZID:Europe/Berlin
BEGIN:STANDARD
DTSTART:20071028T010000
TZOFFSETTO:+0100
TZOFFSETFROM:+0000
TZNAME:CET
END:STANDARD
BEGIN:DAYLIGHT
TZOFFSETTO:+0200
TZOFFSETFROM:+0100
TZNAME:CEST
DTSTART:20080330T020000
END:DAYLIGHT
END:VTIMEZONE
BEGIN:VEVENT
SEQUENCE:1
TRANSP:OPAQUE
UID:termine_Event.2019-05-17.2207431349_portal.mytum.de
DTSTART;TZID=Europe/Berlin:20190523T170000
ORGANIZER;CN="Nicolas Zunhammer":mailto:n.zunhammer@tum.de
DTSTAMP:20260420T142053
LAST-MODIFIED:20190517T150711
CATEGORIES:VORTRAG
SUMMARY:SOFIA – die fliegende Sternwarte
DESCRIPTION:Herr Clemens Plank, SOFIA Projektingenieur beim DLR, wird zu Beginn seines Vortrags einen kurzen Überblick über die Flugzeugastronomie und dessen Anfänge in den 1960ern geben. Das hierbei vermittelte grobe Verständnis über die Infrarot-Astronomie ist wichtig, um den enormen Aufwand für SOFIA nachvollziehen zu können. Anschließend wird auf die größten Herausforderungen des Projekts eingegangen. Dazu gehören, allen voran, der Umbau des SOFIA-Flugzeugs durch die NASA, aber ebenso die Entwicklung des Teleskops in Deutschland und die anschließende Phase der Flugerprobung sowie erster wissenschaftlicher Testmessungen. Danach wird ein Einblick in den täglichen Wissenschaftsbetrieb gegeben, in dem sich SOFIA seit 2014 befindet und bei dem stetig neue Herausforderungen zu bewältigen sind. SOFIA ist dabei weder mit einem Satellitenbetrieb noch mit einem bodengebundenen Teleskop vergleichbar. Abschließend wird ein Einblick in die verschiedenen wissenschaftlichen Instrumente des Projekts gegeben sowie die damit erzielten, neuesten wissenschaftlichen Erkenntnisse dargestellt und ein kurzer Ausblick in die Zukunft gegeben. 
CONTACT:Nicolas Zunhammer
LOCATION:MW 1250
CLASS:PUBLIC
URL;VALUE=URL:https://portal.mytum.de/termine/Event.2019-05-17.2207431349
ATTACH;VALUE=URI:http://www.lrt.mw.tum.de/index.php?id=205
CREATED:20190517T150647
DTEND;TZID=Europe/Berlin:20190523T183000
END:VEVENT
END:VCALENDAR
