BEGIN:VCALENDAR
PRODID:-//Dr. Thomas Wagner\, TUM WWW & Online Services//myTUM Advanced Calendaring 0.1//DE
VERSION:2.0
METHOD:GET
BEGIN:VTIMEZONE
TZID:Europe/Berlin
BEGIN:STANDARD
DTSTART:20071028T010000
TZOFFSETTO:+0100
TZOFFSETFROM:+0000
TZNAME:CET
END:STANDARD
BEGIN:DAYLIGHT
TZOFFSETTO:+0200
TZOFFSETFROM:+0100
TZNAME:CEST
DTSTART:20080330T020000
END:DAYLIGHT
END:VTIMEZONE
BEGIN:VEVENT
SEQUENCE:1
TRANSP:OPAQUE
UID:termine_Event.2019-04-03.7408508280_portal.mytum.de
DTSTART;TZID=Europe/Berlin:20190716T170000
ORGANIZER;CN="Leonhard Franke":mailto:leonhard.franke@tum.de
DTSTAMP:20260425T154704
LAST-MODIFIED:20190403T111332
SUMMARY:Your First Work Contract: What you need to know - Webinar in English
DESCRIPTION:A work contract in Germany is a very sensitive document based on a complex legislation. This webinar will provide you with lots of information about your rights and also your duties in your first job. The goal is to sensitize you for the key aspects to review before signing a German work contract.
LOCATION:online in English
CLASS:PUBLIC
URL;VALUE=URL:https://portal.mytum.de/termine/Event.2019-04-03.7408508280
CREATED:20190403T111332
DTEND;TZID=Europe/Berlin:20190716T180000
END:VEVENT
END:VCALENDAR
