BEGIN:VCALENDAR
PRODID:-//Dr. Thomas Wagner\, TUM WWW & Online Services//myTUM Advanced Calendaring 0.1//DE
VERSION:2.0
METHOD:GET
BEGIN:VTIMEZONE
TZID:Europe/Berlin
BEGIN:STANDARD
DTSTART:20071028T010000
TZOFFSETTO:+0100
TZOFFSETFROM:+0000
TZNAME:CET
END:STANDARD
BEGIN:DAYLIGHT
TZOFFSETTO:+0200
TZOFFSETFROM:+0100
TZNAME:CEST
DTSTART:20080330T020000
END:DAYLIGHT
END:VTIMEZONE
BEGIN:VEVENT
SEQUENCE:1
TRANSP:OPAQUE
UID:termine_Event.2019-04-03.6849397671_portal.mytum.de
DTSTART;TZID=Europe/Berlin:20190701T170000
ORGANIZER;CN="Leonhard Franke":mailto:leonhard.franke@tum.de
DTSTAMP:20260424T200954
LAST-MODIFIED:20190403T101821
SUMMARY:Rock your Phone or Skype Interview - Webinar in English
DESCRIPTION:In this webinar you will learn the most important tecniques to be succesful in a phone or Skype interview. You will become aware of the particularities and how to resolve the challenges of this type of job interview. You will receive concrete and useful recommendations how to prepare and show your best performance as a candidate.
LOCATION:online in English
CLASS:PUBLIC
URL;VALUE=URL:https://portal.mytum.de/termine/Event.2019-04-03.6849397671
CREATED:20190403T101821
DTEND;TZID=Europe/Berlin:20190701T180000
END:VEVENT
END:VCALENDAR
