BEGIN:VCALENDAR
PRODID:-//Dr. Thomas Wagner\, TUM WWW & Online Services//myTUM Advanced Calendaring 0.1//DE
VERSION:2.0
METHOD:GET
BEGIN:VTIMEZONE
TZID:Europe/Berlin
BEGIN:STANDARD
DTSTART:20071028T010000
TZOFFSETTO:+0100
TZOFFSETFROM:+0000
TZNAME:CET
END:STANDARD
BEGIN:DAYLIGHT
TZOFFSETTO:+0200
TZOFFSETFROM:+0100
TZNAME:CEST
DTSTART:20080330T020000
END:DAYLIGHT
END:VTIMEZONE
BEGIN:VEVENT
SEQUENCE:1
TRANSP:OPAQUE
UID:termine_Event.2019-04-03.4658154185_portal.mytum.de
DTSTART;TZID=Europe/Berlin:20190717T181500
ORGANIZER;CN="Leonhard Franke":mailto:leonhard.franke@tum.de
DTSTAMP:20260423T215051
LAST-MODIFIED:20190403T111632
CATEGORIES:WORKSHOP
SUMMARY:Abenteuer Berufseinstieg - Workshop
DESCRIPTION:Die ersten 100 Tage im Job, die Herausforderungen im Arbeitsalltag, Überlegungen zur weiteren Karriereplanung – bei dem Start in das Berufsleben kommt viel Neues auf Sie zu. Wir laden junge Alumni in ihrem ersten Berufsjahr ein, sich mit anderen Berufseinsteigern auszutauschen. Profitieren Sie von den Erfahrungen anderer young alumni aus verschiedenen Fachrichtungen und Unternehmen, die ihre jeweils eigene Arbeits- und Vorgehensweise einbringen.
LOCATION:Campus München
CLASS:PUBLIC
URL;VALUE=URL:https://portal.mytum.de/termine/Event.2019-04-03.4658154185
CREATED:20190403T111632
DTEND;TZID=Europe/Berlin:20190717T200000
END:VEVENT
END:VCALENDAR
