BEGIN:VCALENDAR
PRODID:-//Dr. Thomas Wagner\, TUM WWW & Online Services//myTUM Advanced Calendaring 0.1//DE
VERSION:2.0
METHOD:GET
BEGIN:VTIMEZONE
TZID:Europe/Berlin
BEGIN:STANDARD
DTSTART:20071028T010000
TZOFFSETTO:+0100
TZOFFSETFROM:+0000
TZNAME:CET
END:STANDARD
BEGIN:DAYLIGHT
TZOFFSETTO:+0200
TZOFFSETFROM:+0100
TZNAME:CEST
DTSTART:20080330T020000
END:DAYLIGHT
END:VTIMEZONE
BEGIN:VEVENT
SEQUENCE:1
TRANSP:OPAQUE
UID:termine_Event.2019-04-03.4226237576_portal.mytum.de
DTSTART;TZID=Europe/Berlin:20190703T180000
ORGANIZER;CN="Leonhard Franke":mailto:leonhard.franke@tum.de
DTSTAMP:20260421T034243
LAST-MODIFIED:20190403T102452
SUMMARY:Meet Young Professionals in Life Sciences - Career Lounge im Rahmen der Career Days
DESCRIPTION:Young Professionals aus den Life Sciences geben in dieser Veranstaltung Insidertipps für die Karrieregestaltung in einer vielgestaltigen Branche: Welche Fähigkeiten und Zusatzqualifikationen sind besonders gefragt? Welche Berufsfelder bieten das meiste Entwicklungspotential?
LOCATION:Campus Weihenstephan
CLASS:PUBLIC
URL;VALUE=URL:https://portal.mytum.de/termine/Event.2019-04-03.4226237576
CREATED:20190403T102452
DTEND;TZID=Europe/Berlin:20190703T193000
END:VEVENT
END:VCALENDAR
