BEGIN:VCALENDAR
PRODID:-//Dr. Thomas Wagner\, TUM WWW & Online Services//myTUM Advanced Calendaring 0.1//DE
VERSION:2.0
METHOD:GET
BEGIN:VTIMEZONE
TZID:Europe/Berlin
BEGIN:STANDARD
DTSTART:20071028T010000
TZOFFSETTO:+0100
TZOFFSETFROM:+0000
TZNAME:CET
END:STANDARD
BEGIN:DAYLIGHT
TZOFFSETTO:+0200
TZOFFSETFROM:+0100
TZNAME:CEST
DTSTART:20080330T020000
END:DAYLIGHT
END:VTIMEZONE
BEGIN:VEVENT
SEQUENCE:1
TRANSP:OPAQUE
UID:termine_Event.2019-04-03.2719802474_portal.mytum.de
DTSTART;TZID=Europe/Berlin:20190628T150000
ORGANIZER;CN="Leonhard Franke":mailto:leonhard.franke@tum.de
DTSTAMP:20260425T152845
LAST-MODIFIED:20190403T101704
CATEGORIES:VORTRAG
SUMMARY:Global Minds Japan - Bewerben und Arbeiten im Ausland
DESCRIPTION:Vortrag mit Erfahrungsberichten In der Veranstaltungsreihe „Global Minds“ klären wir alle Fragen im Zusammenhang mit Bewerbungen für Jobs und Praktika im Ausland. Bei jedem Termin wird ein bestimmtes Zielland mit seinen spezifischen Rahmenbedingungen und dem zugehörigen Bewerbungsprozess vorgestellt.
LOCATION:Campus München
CLASS:PUBLIC
URL;VALUE=URL:https://portal.mytum.de/termine/Event.2019-04-03.2719802474
CREATED:20190403T101704
DTEND;TZID=Europe/Berlin:20190628T163000
END:VEVENT
END:VCALENDAR
