BEGIN:VCALENDAR
PRODID:-//Dr. Thomas Wagner\, TUM WWW & Online Services//myTUM Advanced Calendaring 0.1//DE
VERSION:2.0
METHOD:GET
BEGIN:VTIMEZONE
TZID:Europe/Berlin
BEGIN:STANDARD
DTSTART:20071028T010000
TZOFFSETTO:+0100
TZOFFSETFROM:+0000
TZNAME:CET
END:STANDARD
BEGIN:DAYLIGHT
TZOFFSETTO:+0200
TZOFFSETFROM:+0100
TZNAME:CEST
DTSTART:20080330T020000
END:DAYLIGHT
END:VTIMEZONE
BEGIN:VEVENT
SEQUENCE:1
TRANSP:OPAQUE
UID:termine_Event.2019-04-02.8759166922_portal.mytum.de
DTSTART;TZID=Europe/Berlin:20190529T100000
ORGANIZER;CN="Leonhard Franke":mailto:leonhard.franke@tum.de
DTSTAMP:20260425T131850
LAST-MODIFIED:20190402T151047
CATEGORIES:WORKSHOP
SUMMARY:Assessment Center Training in English - Workshop in English
DESCRIPTION:This workshop introduces the assessment center (AC) as an essential and common tool in the recruitment process. Participants will have the chance to experience AC exercises under real-life conditions. The insights and feedback from the training will significantly help participants to successfully perform in assessment centers.
LOCATION:Campus Munich
CLASS:PUBLIC
URL;VALUE=URL:https://portal.mytum.de/termine/Event.2019-04-02.8759166922
CREATED:20190402T151047
DTEND;TZID=Europe/Berlin:20190529T170000
END:VEVENT
END:VCALENDAR
